BEGIN:VCALENDAR
VERSION:2.0
PRODID:-//Squarespace Inc/Squarespace 6//v6//EN
BEGIN:VEVENT
UID:5bc7e2e415fcc084510691bf@squarespace.com
DTSTAMP:20181105T110243Z
DTSTART:20190101T003000Z
DTEND:20190101T043000Z
SUMMARY:NYE Party with The Cover Girls
GEO:-37.650183;145.502879
LOCATION:Healesville Country Club
END:VEVENT
END:VCALENDAR
