BEGIN:VCALENDAR
VERSION:2.0
PRODID:-//Squarespace Inc/Squarespace 6//v6//EN
BEGIN:VEVENT
UID:5bac594a419202d39187d956@squarespace.com
DTSTAMP:20180927T041955Z
DTSTART:20181014T200000Z
DTEND:20181014T220000Z
SUMMARY:Sunday afternoon with The Cover Girls
GEO:-37.887062;145.021457
LOCATION:772 Wine Bar\, 772 Glen Huntly Road\, Caulfield South\, VIC\, 3162
 \, Australia
END:VEVENT
END:VCALENDAR
